BEGIN:VCALENDAR
PRODID:-//eluceo/ical//2.0/EN
VERSION:2.0
CALSCALE:GREGORIAN
BEGIN:VEVENT
UID:22f34ebdd73c76111a98cddc1b0d56bf
DTSTAMP:20260423T172921Z
SUMMARY:pokusná akce
DESCRIPTION:Název akce: pokusná akce\nURL: https://www.spcr.cz/pokusna-ak
 ce\nPopis: \n\niutuzgqwgh\n\nkjhjd\njkhjks\n
URL:https://www.spcr.cz/pokusna-akce
DTSTART:20230512T080000
DTEND:20230512T170000
LOCATION:
END:VEVENT
END:VCALENDAR
