BEGIN:VCALENDAR
PRODID:-//eluceo/ical//2.0/EN
VERSION:2.0
CALSCALE:GREGORIAN
BEGIN:VEVENT
UID:49b03f60d8f0d22b6256d88ff30dec83
DTSTAMP:20260423T125654Z
SUMMARY:HOLIDAY WORLD & REGION WORLD
DESCRIPTION:Název akce: HOLIDAY WORLD & REGION WORLD\nURL: https://www.spc
 r.cz/holiday-world-region-world-0\nPopis: \n\n31. ročník tradičních ve
 letrhů Holiday World & Region World se uskuteční 17. až 19. března 20
 23. Veletrhy se tímto krokem vracejí k řádnému termínu konání. Obl
 íbená akce se uskuteční v moderním výstavišti PVA EXPO PRAHA v Let
 ňanech.\nVeletrh cestovního ruchu Holiday World je nejvýznamnější ak
 cí svého druhu nejen v České republice\, ale i v regionu střední Evr
 opy.\nPodrobnosti k veletrhu zde.\n
URL:https://www.spcr.cz/holiday-world-region-world-0
DTSTART:20230317T000000
DTEND:20230319T235959
LOCATION:
END:VEVENT
END:VCALENDAR
