BEGIN:VCALENDAR
PRODID:-//eluceo/ical//2.0/EN
VERSION:2.0
CALSCALE:GREGORIAN
BEGIN:VEVENT
UID:858f7831eb4676defb6bd92e0e9e75d6
DTSTAMP:20260423T125940Z
SUMMARY:Podnikatelská mise do Vietnamu a Malajsie
DESCRIPTION:Název akce: Podnikatelská mise do Vietnamu a Malajsie\nURL: h
 ttps://www.spcr.cz/podnikatelska-mise-do-vietnamu-malajsie\nPopis: \n\nZve
 me Vás na podnikatelskou misi do Vietnamské socialistické republiky a 
 Malajské federace při příležitosti pracovní návštěvy ministra pr
 ůmyslu a obchodu Jozefa Síkely.\n
URL:https://www.spcr.cz/podnikatelska-mise-do-vietnamu-malajsie
DTSTART:20230218T000000
DTEND:20230225T235959
LOCATION:
END:VEVENT
END:VCALENDAR
