BEGIN:VCALENDAR
PRODID:-//eluceo/ical//2.0/EN
VERSION:2.0
CALSCALE:GREGORIAN
BEGIN:VEVENT
UID:ea15d1c44cc8fb9660b28d3dbce4da44
DTSTAMP:20260423T150037Z
SUMMARY:Veletrh dotačních příležitostí a podpory podnikání
DESCRIPTION:Název akce: Veletrh dotačních příležitostí a podpory pod
 nikání\nURL: https://www.spcr.cz/veletrh-dotacnich-prilezitosti-podpory-
 podnikani\nPopis: \n\nJedinečná příležitost konzultovat své záměry
  či jen načerpat informace o dotačních titulech.\nPozvanka.pdf\nRegist
 rujte se pod tímto odkazem do 24. ledna 2023.\nKontakt: Kateřina Ehrlich
 ováRegionální kancelář pro Prahu a Středočeský krajtel: +420 720 0
 71 310email: katerina.ehrlichova@czechinvest.org\n
URL:https://www.spcr.cz/veletrh-dotacnich-prilezitosti-podpory-podnikani
DTSTART:20230125T100000
DTEND:20230125T140000
LOCATION:
END:VEVENT
END:VCALENDAR
