BEGIN:VCALENDAR
PRODID:-//eluceo/ical//2.0/EN
VERSION:2.0
CALSCALE:GREGORIAN
BEGIN:VEVENT
UID:9ebca98b53b3883f43c7d424307cb4a5
DTSTAMP:20260423T172546Z
SUMMARY:Veltrh Made in Moldova 
DESCRIPTION:Název akce: Veltrh Made in Moldova \nURL: https://www.spcr.cz/
 veltrh-made-moldova\nPopis: \n\nDovolujeme si Vás touto cestou informovat
  o konání 20. ročníku moldavského národního veletrhu „Made in Mol
 dova“\, který se tentokrát bude konat od 01. do 05. února 2023 v Kiš
 iněvě\, Moldavská republika.\n\nV rámci veletrhu proběhne také bohat
 ý doprovodný program pro podnikatele i širší odbornou veřejnost vče
 tně seminářů\, prezentací\, workshopů\, školení a přednášek. D
 ůraz bude kladen na prezentování lokálních produktů a služeb\, jeji
 ch konkurenceschopnost a hledání nových příležitosti pro vytvářen
 í udržitelných obchodních vztahů.\nMáte-li zájem o podrobnější i
 nformace a účast na veletrhu\, kontaktujte\, prosím\, zástupce Hospod
 ářské komory Moldavska paní Ingu Leontean na e-mailové adrese: inga.
 leontean@chamber.md. Své přihlášky můžete zasílat do 10.01.2023.\nV
  souvislosti s případným zájmem o účast na uvedeném veletrhu si dov
 olujeme Vás požádat o zaslání informace o Vaší účasti na e-mailov
 ou adresu vysoky@mpo.cz.\nNíže naleznete odkaz v na stránky Hospodář
 ské komory Moldavska v rumunštině:\nCamera de Comert si Industrie a Rep
 ublicii Moldova\n
URL:https://www.spcr.cz/veltrh-made-moldova
DTSTART:20230201T080000
DTEND:20230205T170000
LOCATION:
END:VEVENT
END:VCALENDAR
