BEGIN:VCALENDAR
PRODID:-//eluceo/ical//2.0/EN
VERSION:2.0
CALSCALE:GREGORIAN
BEGIN:VEVENT
UID:e6754ea1998cf680f447314a82934917
DTSTAMP:20260423T162819Z
SUMMARY:Veletrh „Made in Moldova“
DESCRIPTION:Název akce: Veletrh „Made in Moldova“\nURL: https://www.sp
 cr.cz/veletrh-made-moldova\nPopis: \n\nDovolujeme si Vás touto cestou inf
 ormovat o konání 20. ročníku moldavského národního veletrhu „Made
  in Moldova“\, který se tentokrát bude konat od 1. do 5. února 2023 v
  Kišiněvě v Moldavské republice.V rámci veletrhu proběhne také boha
 tý doprovodný program pro podnikatele i širší odbornou veřejnost vč
 etně seminářů\, prezentací\, workshopů\, školení a přednášek. D
 ůraz bude kladen na prezentování lokálních produktů a služeb\, jeji
 ch konkurenceschopnost a hledání nových příležitosti pro vytvářen
 í udržitelných obchodních vztahů.Máte-li zájem o podrobnější inf
 ormace a účast na veletrhu\, kontaktujte\, prosím\, zástupce Hospodá
 řské komory Moldavska paní Ingu Leontean na e-mailové adrese: inga.leo
 ntean@chamber.md\nSvé přihlášky můžete zasílat do 10. 1. 2023. V so
 uvislosti s případným zájmem o účast na uvedeném veletrhu si Vás d
 ovolujeme požádat o zaslání informace o Vaší účasti na e-mailovou 
 adresu: vysoky@mpo.cz Zde naleznete také odkaz na stránky Hospodářské
  komory Moldavska v rumunštině.\n
URL:https://www.spcr.cz/veletrh-made-moldova
DTSTART:20230201T080000
DTEND:20230205T235959
LOCATION:
END:VEVENT
END:VCALENDAR
