BEGIN:VCALENDAR
PRODID:-//eluceo/ical//2.0/EN
VERSION:2.0
CALSCALE:GREGORIAN
BEGIN:VEVENT
UID:b18e8dc5186d6e85806774c4a7d17abf
DTSTAMP:20260423T214600Z
SUMMARY: Podnikatelská mise do Korejské republiky a na Tchaj-wan
DESCRIPTION:Název akce:  Podnikatelská mise do Korejské republiky a na T
 chaj-wan\nURL: https://www.spcr.cz/podnikatelska-mise-do-korejske-republik
 y-na-tchaj-wan\nPopis: \n\nSrdečně Vás zveme k účasti v podnikatelsk
 é delegaci do Korejské republiky a na Tchaj-wan\, která doprovodí př
 edsedkyni Poslanecké sněmovny Parlamentu ČR Markétu Pekarovou Adamovo
 u ve dnech 21. až 30. 3. 2023.\n\nV Soulu proběhne podnikatelské fó
 rum a B2B jednání s korejskými firmami\, setkání s vedením význam
 ných sdružení firem a organizací zaměřených na podporu obchodu jako
  Korea Employers Federation nebo Korejská asociace importérů KOIMA.\nB
 ěhem návštěvy Tchaj-wanu se v Tchaj-peji uskuteční 18. zasedání 
 Česko-tchajwanské podnikatelské rady pro ekonomickou spolupráci\, sl
 avnostní otevření Česko-tchajwanského centra\, B2B jednání s tchaj
 wanskými firmami a skupinové site visits dle sektorů zúčastněných f
 irem. Účastníci se také mohou prezentovat v rámci českého stánku n
 a veletrhu Smart City Summit & Expo.\nPřipravujeme 3 varianty účasti:\
 n\nKorejská republika a Tchaj-wan\nTchaj-wan\n\nVíce informací včetně
  rámcovému programu všech tří variant a informací k účastnickému 
 poplatku najdete v pozvánce..\nV případě Vašeho zájmu o účast v po
 dnikatelské delegaci se prosím zaregistrujte do 15. 2. 2023. \nDále p
 rosíme o vyplnění závazné přihlášky/objednávky\, podepsaný sken
  zašlete na email: mnatafalusi@spcr.cz.\n
URL:https://www.spcr.cz/podnikatelska-mise-do-korejske-republiky-na-tchaj-w
 an
DTSTART:20230321T000000
DTEND:20230330T235959
LOCATION:
END:VEVENT
END:VCALENDAR
