BEGIN:VCALENDAR
PRODID:-//eluceo/ical//2.0/EN
VERSION:2.0
CALSCALE:GREGORIAN
BEGIN:VEVENT
UID:56ed9b25dbe17e8563c14d9843f06862
DTSTAMP:20260423T145743Z
SUMMARY:Konference česko-čínské investiční a obchodní spolupráce - 
 provincie Zhejiang
DESCRIPTION:Název akce: Konference česko-čínské investiční a obchodn
 í spolupráce - provincie Zhejiang\nURL: https://www.spcr.cz/konference-c
 esko-cinske-investicni-obchodni-spoluprace-provincie-zhejiang\nPopis: \n\n
 Zveme Vás na Konferenci česko-čínské investiční a obchodní spolupr
 áce.\nHlavními body programu bude představení investičního prostřed
 í provincie Zhejiang\, měst Changxing a Huzhou a volná diskuze umožňu
 jící propojení českých a čínských podnikatelských subjektů. Tlum
 očení a občerstvení zajištěno.\nDresscode: business formal.\nPro ví
 ce informací k registraci\, k jednání s čínskými partnery a dalším
 i záležitostmi týkajícími se akce\, kontaktujte Kateřinu Kupkovou\,
  International Business Manager\, Huajie Development\, email: kupkova@euc
 ccgroup.com\, tel: 778 536 879.\n
URL:https://www.spcr.cz/konference-cesko-cinske-investicni-obchodni-spolupr
 ace-provincie-zhejiang
DTSTART:20230106T150000
DTEND:20230106T163000
LOCATION:
END:VEVENT
END:VCALENDAR
