BEGIN:VCALENDAR
PRODID:-//eluceo/ical//2.0/EN
VERSION:2.0
CALSCALE:GREGORIAN
BEGIN:VEVENT
UID:7b3529c26507f0a3d05ca63193ca37dd
DTSTAMP:20260423T125530Z
SUMMARY:Azbest a jeho zdravotní rizika
DESCRIPTION:Název akce: Azbest a jeho zdravotní rizika\nURL: https://www.
 spcr.cz/azbest-jeho-zdravotni-rizika-0\nPopis: \n\nKrajská hygienická st
 anice Libereckého kraje se sídlem v Liberci\, Svaz průmyslu a dopravy 
 ČR\, Okresní hospodářská komora Liberec\, Spolek pro rozvoj lidských
  zdrojů Liberec a Krajská nemocnice Liberec si Vás dovolují pozvat na 
 seminář\nAzbest a jeho zdravotní rizika\nPROGRAM:\n08:30 – 09:00 Pre
 zence\, občerstvení09:00 – 09:10 Zahájení∙ Ing. Jana Loosová\, P
 h.D.\, ředitelka KHS LK\, Ing. Martin Procházka\, ředitel OHK Liberec\,
  Ing. Naďa Vojtíšková\, manažerka Svazu průmyslu a dopravy ČR pro L
 iberecký a Královéhradecký kraj09:10 – 10:00 Problematika expozice 
 azbestu v ČR∙ RNDr. Bohumil Kotlík\, Ph.D. - vedoucí oddělení hygie
 ny ovzduší a odpadů\, Centrum zdraví a životního prostředí\, SZÚ 
 Praha10:00 – 10:30 Rizika a ochrana zdraví při práci s materiálem o
 bsahujícím azbest∙ Ing. Kateřina Forysová\, Ph.D.\, ředitelka odbor
 u práce KHS LK10:30 – 10:45 Přestávka\, občerstvení10:45 – 11:45
  Odstraňování azbestových materiálů ze staveb∙ Petr Balvin - jedn
 atel společnosti Removal s.r.o.11:45 – 12:00 Dotazy\, diskuze a závě
 r\nCENA: 2000 Kč (vč. DPH) / 1200 Kč (vč. DPH) pro členy HK ČR nebo 
 SP ČR\nREGISTRACE: ZDE\n
URL:https://www.spcr.cz/azbest-jeho-zdravotni-rizika-0
DTSTART:20230119T000000
DTEND:20230119T235959
LOCATION:
END:VEVENT
END:VCALENDAR
