BEGIN:VCALENDAR
PRODID:-//eluceo/ical//2.0/EN
VERSION:2.0
CALSCALE:GREGORIAN
BEGIN:VEVENT
UID:ab1ee74724d7551edf387b95b1b52b46
DTSTAMP:20260423T162952Z
SUMMARY:Vyhrazená technická zařízení elektrická dle nové legislativy
  od 1. 7. 2022
DESCRIPTION:Název akce: Vyhrazená technická zařízení elektrická dle 
 nové legislativy od 1. 7. 2022\nURL: https://www.spcr.cz/vyhrazena-techni
 cka-zarizeni-elektricka-dle-nove-legislativy-od-1-7-2022\nPopis: \n\nSvaz 
 průmyslu a dopravy České republiky a Krajská hospodářská komora Kr
 álovéhradeckého krajevás srdečně zvou na seminář\nVyhrazená techn
 ická zařízení elektrická dle nové legislativy s účinností od 1. 7
 . 2022\n24. ledna 2023 9:00 – 12:00 nebo 13:00 – 16:00Zasedací místn
 ost (3. patro) Krajské hospodářské komory Královéhradeckého kraje 
 Škroupova 957\, Hradec KrálovéRÁMCOVÝ PROGRAM\n\nPrezence\, občerstv
 ení\nZahájení\nVyhrazená elektrická zařízení dle nové legislativy
  s účinností od 1. 7. 2022 – Mgr. Radek Roušar\n\nJaká elektrická 
 zařízení patří mezi vyhrazená (dále jen „VEZ“)?\nCo je to pově
 řená organizace?\nJaké povinnosti je nutno splnit při uvádění VEZ d
 o provozu?\nJaké povinnosti je nutno splnit při provozování VEZ?\nJak 
 jsou stanoveny nově lhůty revizí VEZ?\n\n\nDotazy\, diskuze\nPauza\, ob
 čerstvení\nOdborná způsobilost v elektrotechnice dle nové legislativ
 y od 1. 7. 2022 – Mgr. Radek Roušar\n\nJak se změnily stupně odborné
  způsobilosti v elektrotechnice?\nCo může provádět osoba poučená\,
  co už osoba znalá?\nKdo je to odpovědná osoba?\nKdo může zkoušet o
 dbornou způsobilost v elektrotechnice?\n\n\nDotazy\, diskuze\n\nČASOVÝ
  HARMONOGRAM\n8:30 – 9:00 prezence účastníků9:00 – 12:00 seminář
  NEBO12:30 – 13:00 prezence účastníků13:00 – 16:00 seminářPŘEDN
 ÁŠEJÍCÍMgr. Radek Roušar je prezidentem Elektrotechnického svazu če
 ského (ESČ) a členem představenstva Hospodářské komory České repu
 bliky (HK ČR)\, kde je současně předsedou Sekce pro vyhrazená technic
 ká zařízení HK ČR. Dále je členem dozorčí rady Výzkumného ústa
 vu pro podnikání a inovace\, z.ú. při HK ČR a stálý host Rady vlád
 y pro BOZP a PO. Je jednatelem společnosti ELKO CZ\, s.r.o.CENA: 2300 Kč
  (vč. DPH) / 1700 Kč (vč. DPH) pro členy Krajské hospodářské komor
 y KHK nebo SP ČRREGISTRACE: Na setkání se prosím registrujte do 19. 1.
  2023\n
URL:https://www.spcr.cz/vyhrazena-technicka-zarizeni-elektricka-dle-nove-le
 gislativy-od-1-7-2022
DTSTART:20230124T000000
DTEND:20230124T235959
LOCATION:
END:VEVENT
END:VCALENDAR
