BEGIN:VCALENDAR
PRODID:-//eluceo/ical//2.0/EN
VERSION:2.0
CALSCALE:GREGORIAN
BEGIN:VEVENT
UID:72468cb22979c030172e36edf7ec5bda
DTSTAMP:20260423T162732Z
SUMMARY:MEDIBAT 2023 - Mediterranean Building Exhibition
DESCRIPTION:Název akce: MEDIBAT 2023 - Mediterranean Building Exhibition\n
 URL: https://www.spcr.cz/medibat-2023-mediterranean-building-exhibition\nP
 opis: \n\nObchodní a průmyslová komora Sfax v Tunisku organizuje Medit
 erranean Building Exhibition v termínu 8.-11.03.2022 na mezinárodním ve
 ltrhu Sfax v Tunisku. \n\nTato dvouletá výstava je považována za jedn
 o z nejvýznamnějších mezinárodních setkání v oblasti stavebnictví
  a veřejných prací a Obchodní a průmyslová komora Sfax si v tomto oh
 ledu přeje pozvat české profesní struktury působící v těchto obore
 ch k návštěvě a účasti na této výstavě.Příští zasedání bude
  příležitostí k osvětě o vývoji stavebních výrobků a technik\, z
 ejména na inovační úrovni\, za široké účasti profesionálů z cel
 ého světa.Navzdory výjimečným okolnostem souvisejícím s pandemií C
 ovidu se ročníku 2021 účastnilo více než 150 vystavovatelů z více 
 než 30 zemí a počet návštěvníků přesáhnul 25 000 návštěvník
 ů z Tuniska i zahraničí.MEDIBAT 2023 bude zahrnovat obchodní jednání
 \, B2B meetings\, dny jednotlivých zemí a také fóra (ekonomická\, vě
 decká\, inovační a podnikatelská).Více informací o akci je k dispozi
 ci zde.\nMEDIBAT_2023_Participation.pdf\n
URL:https://www.spcr.cz/medibat-2023-mediterranean-building-exhibition
DTSTART:20230308T080000
DTEND:20230311T170000
LOCATION:
END:VEVENT
END:VCALENDAR
