BEGIN:VCALENDAR
PRODID:-//eluceo/ical//2.0/EN
VERSION:2.0
CALSCALE:GREGORIAN
BEGIN:VEVENT
UID:1ae259ac34fff56bd81b48ba9689a9d1
DTSTAMP:20260423T150323Z
SUMMARY:LinkedIn pro exportéry
DESCRIPTION:Název akce: LinkedIn pro exportéry\nURL: https://www.spcr.cz/
 linkedin-pro-exportery-2\nPopis: \n\nChcete poradit\, jak efektivně využ
 ívat největší profesní síť LinkedIn? Na našem semináři se dozví
 te\, jak vyhledávat a získávat nové obchodní kontakty\, udržovat vzt
 ah se svými obchodními partnery/zákazníky či jak se vhodně prezentov
 at jako firma i jednotlivec. Zároveň také\, jak si na LinkedIn vybudov
 at profil a pracovat s nástroji\, které tato profesní síť nabízí.\
 nPro více informací a registraci ke zpoplatněnému semináři organizov
 aného agenturou CzechTrade klikněte ZDE. \n
URL:https://www.spcr.cz/linkedin-pro-exportery-2
DTSTART:20221130T090000
DTEND:20221130T160000
LOCATION:
END:VEVENT
END:VCALENDAR
