BEGIN:VCALENDAR
PRODID:-//eluceo/ical//2.0/EN
VERSION:2.0
CALSCALE:GREGORIAN
BEGIN:VEVENT
UID:c27d39ce45c1157d057081fcbe3dcda6
DTSTAMP:20260423T150038Z
SUMMARY:Efektivní propagace a obchodní nabídka (B2B)
DESCRIPTION:Název akce: Efektivní propagace a obchodní nabídka (B2B)\nU
 RL: https://www.spcr.cz/efektivni-propagace-obchodni-nabidka-b2b\nPopis: \
 n\nVaším cílem je získat nové zákazníky na exportních trzích a o 
 to samé usilují stovky dalších firem.Svoji nabídku budete podporovat 
 nejrůznějšími formáty\, ale znáte osvědčené zásady vytváření 
 propagačních materiálů?Dokážete rychle zaujmout?Je vaše sdělení d
 ostatečně přesvědčivé?Vynakládáte peníze na propagaci efektivně?
 Jste spokojeni s odezvou na vaše kampaně?\nNa zpoplatněný exportní se
 minář organizovaný CzechTrade se můžete přihlásit ZDE.  \n
URL:https://www.spcr.cz/efektivni-propagace-obchodni-nabidka-b2b
DTSTART:20221206T090000
DTEND:20221206T170000
LOCATION:
END:VEVENT
END:VCALENDAR
