BEGIN:VCALENDAR
PRODID:-//eluceo/ical//2.0/EN
VERSION:2.0
CALSCALE:GREGORIAN
BEGIN:VEVENT
UID:edcce757758322beb078d7122bd55e3b
DTSTAMP:20260423T163004Z
SUMMARY:EU-PHILIPPINES BUSINESS ROUNDTABLE 
DESCRIPTION:Název akce: EU-PHILIPPINES BUSINESS ROUNDTABLE \nURL: https://
 www.spcr.cz/eu-philippines-business-roundtable\nPopis: \n\nDovolujeme si V
 ás pozvat na akci pořádanou BusinessEurope "EU-PHILIPPINES BUSINESS ROU
 NDTABLE". Akce proběhne 14. 12. 2022 v Sofitel Brussels Europe. \n Fili
 píny jsou jednou z nejrychleji rostoucích ekonomik s nevyužitým potenc
 iálem v řadě sektorů\, jako je obnovitelná energie a infrastruktura v
 e stále strategičtějším regionu ASEAN.\nPřipojte se k otevřené dis
 kusi a dozvíte se více o Filipínách\, jejich klíčových prioritách 
 a hospodářských politikách.\nÚvodní slovo bude patřit filipínském
 u ministru obchodu a průmyslu H.E. Alfredo Pascual a hlavní projev prezi
 dentovi Filipínské republiky H.E. Ferdinand Romualdez "Bongbong" Marcos\
 , Jr.\nPrezidenta budou doprovázet filipínští obchodní lídři zastup
 ující energetiku\, zdravotnictví\, bankovnictví/finance\, leteckou dop
 ravu\, zemědělsko-potravinářství a výrobu.\nProgram:• 09:30 - Regi
 strace a příjezd účastníků / uvítací káva• 10:00 - Začátek ku
 latého stolu\, přesun do Foyer • 11:00 - Konec kulatého stolu\, přes
 un do foyer na Networking Event • 11:00 – 12:00 – Networking Lunch (
 bude podáván lehký oběd) Doporučujeme účastníkům zasílat dotazy 
 předem.\nNa akci je potřeba provést registraci nejpozději do 12.12. 20
 22 zde. \n \n
URL:https://www.spcr.cz/eu-philippines-business-roundtable
DTSTART:20221214T093000
DTEND:20221214T120000
LOCATION:
END:VEVENT
END:VCALENDAR
