BEGIN:VCALENDAR
PRODID:-//eluceo/ical//2.0/EN
VERSION:2.0
CALSCALE:GREGORIAN
BEGIN:VEVENT
UID:63aaa4dfbed54f5d500732a7c19942f1
DTSTAMP:20260423T124932Z
SUMMARY:Jednání PS k silikonům
DESCRIPTION:Název akce: Jednání PS k silikonům\nURL: https://www.spcr.c
 z/jednani-ps-k-silikonum\nPopis: \n\nBěhem jednání se bude mimo jiné d
 iskutovat o roli silikonů při umožnění digitálního a zeleného pře
 chodu\, o socio-ekonomickém význam silikonů pro EU a ČR\, a udržiteln
 osti.\nÚčast potvrďte na adresu alena.krejcova@schpcr.cz\n
URL:https://www.spcr.cz/jednani-ps-k-silikonum
DTSTART:20221219T140000
DTEND:20221219T160000
LOCATION:
END:VEVENT
END:VCALENDAR
