BEGIN:VCALENDAR
PRODID:-//eluceo/ical//2.0/EN
VERSION:2.0
CALSCALE:GREGORIAN
BEGIN:VEVENT
UID:848b6d89372aec6b8631b268d78290c8
DTSTAMP:20260423T150253Z
SUMMARY:TaiSPO 2023
DESCRIPTION:Název akce: TaiSPO 2023\nURL: https://www.spcr.cz/taispo-2023\
 nPopis: \n\nDovolujme si vám předat informaci ze Zastupitelsví Tchaj-w
 anu v České republice o nadcházejícím akci aiSPO 2023\, jednom z nej
 významnějších asijských veletrhů sportovního zboží\, který se bu
 de konat presenčně na výstavišti Taipei Nangang od 22. března do 25. 
 března 2023 a virtuálně od 22. března do 7. dubna\, 2023.\nTaiSPO bude
  mít více než 350 vystavovatelů s 1 750 stánky\, které představí n
 ejlepší a nejnovější vybavení a vybavení pro indoor fitness\, outdo
 orové sporty (kemping\, míčové a raketové sporty\, zimní sporty atd.
 )\, vodní sporty\, sporty a módu\, všechny věkové kategorie Fitness\,
  sportovní technologie a marketing a servis (software\, školení\, masá
 že atd.).\nNejnovější aktualizace naleznete na oficiálních stránká
 ch Sports and Fitness Taiwan (TaiSPO) \nV rámci podpory účasti na vele
 trhu\, je možné využít pobídku\, která částečně pokrývá letenk
 y nebo ubytování v závislosti na ročních tržbách vaší společnost
 i (další podrobnosti naleznete v přiloženém formuláři „profil spo
 lečnosti“). Pro registraci a žádost o pobídku vyplňte přiložený 
 formulář „profil společnosti“ a zašlete jej na adresu czech@sa.mo
 ea.gov.tw nebo cztwec01@sa.moea.org.tw .\n
URL:https://www.spcr.cz/taispo-2023
DTSTART:20230322T080000
DTEND:20230325T170000
LOCATION:
END:VEVENT
END:VCALENDAR
