BEGIN:VCALENDAR
PRODID:-//eluceo/ical//2.0/EN
VERSION:2.0
CALSCALE:GREGORIAN
BEGIN:VEVENT
UID:76711f0278958ea056903733284191f8
DTSTAMP:20260423T150508Z
SUMMARY:TAIPEI CYCLE 2023
DESCRIPTION:Název akce: TAIPEI CYCLE 2023\nURL: https://www.spcr.cz/taipei
 -cycle-2023\nPopis: \n\nDovolujme si vám předat informaci ze Zastupitel
 sví Tchaj-wanu v České republice o nadcházejícím akci TAIPEI CYCLE 
 2023\, která se bude konat prezencčně na výstavišti Taipei Nangang od
  22. března do 25. března 2023 a virtuálně od 22. března do 7. dubna 
 2023.\nTAIPEI CYCLE 2023 se zaměřuje na pět klíčových oblastí: Odol
 ný dodavatelský řetězec\, digitální připojení\, pulzující inovac
 e\, dynamický životní styl a udržitelné pohyby. Tato témata pokrýva
 jí dodavatelský řetězec\, OEM\, chytrá nositelná zařízení\, trén
 inkový software a vybavení a služby pro jízdní kola. Nejnovější ak
 tualizace naleznete na oficiálních stránkách zde.\nV rámci podpory ú
 časti na veletrhu\, je možné využít pobídku\, která částečně po
 krývá letenky nebo ubytování v závislosti na ročních tržbách vaš
 í společnosti (další podrobnosti naleznete v přiloženém formuláři
  „profil společnosti“). Pro registraci a žádost o pobídku vyplňte
  přiložený formulář „profil společnosti“ a zašlete jej na adres
 u czech@sa.moea.gov.tw nebo cztwec01@sa.moea.org.tw .\n
URL:https://www.spcr.cz/taipei-cycle-2023
DTSTART:20230322T080000
DTEND:20230325T170000
LOCATION:
END:VEVENT
END:VCALENDAR
