BEGIN:VCALENDAR
PRODID:-//eluceo/ical//2.0/EN
VERSION:2.0
CALSCALE:GREGORIAN
BEGIN:VEVENT
UID:e52e224149e778a3042bb09af1af4245
DTSTAMP:20260423T125644Z
SUMMARY:Vyhrazená technická zařízení elektrická a zdvihací dle nové
  legislativy
DESCRIPTION:Název akce: Vyhrazená technická zařízení elektrická a zd
 vihací dle nové legislativy\nURL: https://www.spcr.cz/vyhrazena-technick
 a-zarizeni-elektricka-zdvihaci-dle-nove-legislativy\nPopis: \n\nSvaz prům
 yslu a dopravy ČR\, Okresní hospodářská komora Liberec\, Spolek pro r
 ozvoj lidských zdrojů Liberec a Krajská nemocnice Liberec si Vás dovol
 ují pozvat na seminář\nVyhrazená technická zařízení elektrická a 
 zdvihací dle nové legislativy s účinností od 1. 7. 2022 Krajská nemo
 cnice Liberec\, a.s.\, Husova 10\, Liberec – přednáškový sál\, pavi
 lon P2\nPROGRAM: 08:30 – 09:00: Prezence\, občerstvení\n09:00 – 09:1
 0: Zahájení\nIng. Naďa Vojtíšková\, manažerka Svazu průmyslu a dop
 ravy ČR pro Liberecký a Královéhradecký kraj\, Ing. Martin Procházka
 \, ředitel Okresní hospodářské komory Liberec\n09:10 – 12:10: Vyhra
 zená elektrická zařízení dle nové legislativy s účinností od 1.7.
 2022 Mgr. Radek Roušar\n\nJaká elektrická zařízení patří mezi vyhr
 azená (dále jen „VEZ“)?  Co je to pověřená organizace?\nJaké 
 povinnosti je nutno splnit při uvádění VEZ do provozu?  Jaké povin
 nosti je nutno splnit při provozování VEZ?\nJak jsou stanoveny nově lh
 ůty revizí VEZ?\nDotazy\, diskuze\n\nPauza\, občerstvení\nOdborná zp
 ůsobilost v elektrotechnice dle nové legislativy od 1.7.2022 Mgr. Radek 
 Roušar \n\nJak se změnily stupně odborné způsobilosti v elektrotechni
 ce?  Co může provádět osoba poučená\, co už osoba znalá?\nKdo j
 e to odpovědná osoba?\nKdo může zkoušet odbornou způsobilost v elekt
 rotechnice?  Dotazy\, diskuze\n\nMgr. Radek Roušar je prezidentem Ele
 ktrotechnického svazu českého (ESČ) a členem představenstva Hospodá
 řské komory České republiky (HK ČR)\, kde je současně předsedou Se
 kce pro vyhrazená technická zařízení HK ČR. Dále je členem dozorč
 í rady Výzkumného ústavu pro podnikání a inovace\, z.ú. při HK ČR
  a stálý host Rady vlády pro BOZP a PO. Je jednatelem společnosti ELKO
  CZ\, s.r.o.12:10 – 13:00: Pauza\, občerstvení\, networking\n13:00 
 – 16:00: Vyhrazená (technická) zdvihací zařízení (ZZ) dle nové le
 gislativy s účinností od 1.7.2022 Ing. Martin Röhrich \n\nLegislativn
 í rámec právní úpravy vztahující se ke zdvihacím VTZ zákon 250/ 2
 021 Sb\nLegislativa a související předpisy ke Zdvihacím zařízením N
 V 193/ 2022 Sb a další právní souvislosti\nRozdělení jednotlivých o
 blastí ZZ\nDotazy\, diskuze\n\nPauza\, občerstvení\n\nPovinnosti provoz
 ovatelů ZZ\nNa co si dát pozor při instalaci\, zajištění provozu a d
 alších činnostech ZZ\nPraktické příklady a postupy oblasti ZZ\nDotaz
 y\, diskuze\n\nIng. Martin Röhrich je členem rady vlády pro BOZP\, př
 edsedou stálého výboru pro technickou bezpečnost při radě vlády a 
 členem odborné pracovní skupiny OKAG při Evropské komisi pro bezpečn
 ost práce a ochranu zdraví. Je také OZO BOZP a revizním technikem zdvi
 hacích zařízení a elektro.\n16:00 – 16:10: Závěr CENA: 4500 Kč (v
 č. DPH) / 3500 Kč (vč. DPH) pro členy HK ČR nebo SP ČR \nRegistrujt
 e se prosím zde\n
URL:https://www.spcr.cz/vyhrazena-technicka-zarizeni-elektricka-zdvihaci-dl
 e-nove-legislativy
DTSTART:20221212T090000
DTEND:20221212T160000
LOCATION:
END:VEVENT
END:VCALENDAR
