BEGIN:VCALENDAR
PRODID:-//eluceo/ical//2.0/EN
VERSION:2.0
CALSCALE:GREGORIAN
BEGIN:VEVENT
UID:8b21a4072a63ff00f85fbddc0dad648e
DTSTAMP:20260423T150253Z
SUMMARY:2023 Taiwan Smart City Summit & Expo
DESCRIPTION:Název akce: 2023 Taiwan Smart City Summit & Expo\nURL: https:/
 /www.spcr.cz/2023-taiwan-smart-city-summit-expo\nPopis: \n\nJménem Tchajp
 ejské hospodářské a kulturní kanceláře v Praze si Vás dovolujeme 
 pozvat na 2023 Smart City Summit & Expo (SCSE).\nSCSE je B2B orientovaná 
 výstava s bohatými prvky\, jedná se o největší asijský hybridní ve
 letrh chytrých měst s nejobsáhlejším řešením IoT (internet věcí)
  a nabízí platformu pro spolupráci a navazování kontaktů mezi vláda
 mi a podniky. 2023 Smart City Summit & Expo se bude konat 28. až 31. bř
 ezna v Taipei Nangang Exhibition Center a 30. března až 1. dubna v Kaohs
 iung Exhibition Center. SCSE bude letos zaměřena na témata: správa\, 
 doprava\, AI & IoT (umělá inteligence a internet věcí)\, bezpečnost\,
  zdravotnictví\, telekomunikační operátoři\, systémoví integrátoř
 i\, 5G\, Net Zero (uhlíková neutralita)\, stavebnictví a startupy. Bli
 žší informace naleznete na oficiálních webových stránkách: https
 ://en.smartcity.org.tw/index.php/en-us/ . Tato akce vyžaduje registraci
 \, kterou lze provést zde. Uzávěrka registrací je 16. ledna 2023. Kro
 mě návštěvy je možné uspořádat výstavu. V případě dotazů kon
 taktujte paní Terezu Šafářovou (Zastupitelství Tchaj-wanu v České r
 epublice\, Tel.: +420 234 722 021\, cztwec01@sa.moea.gov.tw) \n
URL:https://www.spcr.cz/2023-taiwan-smart-city-summit-expo
DTSTART:20230328T080000
DTEND:20230401T235959
LOCATION:
END:VEVENT
END:VCALENDAR
