BEGIN:VCALENDAR
PRODID:-//eluceo/ical//2.0/EN
VERSION:2.0
CALSCALE:GREGORIAN
BEGIN:VEVENT
UID:896d85b1c17408f43a2666e1383ffd24
DTSTAMP:20260423T163341Z
SUMMARY:Online seminář: Exportní příležitosti ve ŠPANĚLSKU
DESCRIPTION:Název akce: Online seminář: Exportní příležitosti ve ŠP
 ANĚLSKU\nURL: https://www.spcr.cz/online-seminar-exportni-prilezitosti-ve
 -spanelsku\nPopis: \n\nDovolujeme si Vás pozvat na další seminář agen
 truy CzechTrade na téma "Exportní příležitosti ve Španělsku".\nAnot
 ace:\n\nAktuální vývoj ve Španělsku a situace na trhu\nMístní speci
 fika a charakter trhu\nPerspektivní obory a obchodní příležitosti\nSl
 užby CzechTrade\nOtázky a odpovědi\n\nVíce informací k dispozici zde.
  \n
URL:https://www.spcr.cz/online-seminar-exportni-prilezitosti-ve-spanelsku
DTSTART:20221130T100000
DTEND:20221130T113000
LOCATION:
END:VEVENT
END:VCALENDAR
