BEGIN:VCALENDAR
PRODID:-//eluceo/ical//2.0/EN
VERSION:2.0
CALSCALE:GREGORIAN
BEGIN:VEVENT
UID:64e763fc87f13bf233411a9f37faedf8
DTSTAMP:20260423T125756Z
SUMMARY:Jak obchodovat s NIZOZEMSKEM 
DESCRIPTION:Název akce: Jak obchodovat s NIZOZEMSKEM \nURL: https://www.sp
 cr.cz/jak-obchodovat-s-nizozemskem\nPopis: \n\nDovolujeme si Vás pozvat n
 a další seminář agentruy CzechTrade na téma "Jak obchodovat s Nizozem
 skem?"\nAnotace semináře:\n\nAktuální exportní příležitosti pro č
 eské firmy v Beneluxu\nObory s největším potenciálem\, vyhledávání
  obchodních partnerů\nObchodování a komunikace v Nizozemsku\nSlužby a
  možnosti spolupráce se zahraniční kanceláří CzechTrade v Nizozemsk
 u\nINDIVIDUÁLNÍ KONZULTACE s ředitelem zahraniční kanceláře CzechT
 rade\n\nProgram\, registrace a další informace zde. \n
URL:https://www.spcr.cz/jak-obchodovat-s-nizozemskem
DTSTART:20221201T100000
DTEND:20221201T120000
LOCATION:
END:VEVENT
END:VCALENDAR
