BEGIN:VCALENDAR
PRODID:-//eluceo/ical//2.0/EN
VERSION:2.0
CALSCALE:GREGORIAN
BEGIN:VEVENT
UID:545f6c9cad68cfdb949e5a66186f9067
DTSTAMP:20260423T163304Z
SUMMARY:Krizová doba z pohledu personalistiky
DESCRIPTION:Název akce: Krizová doba z pohledu personalistiky\nURL: https
 ://www.spcr.cz/krizova-doba-z-pohledu-personalistiky\nPopis: \n\nSvaz prů
 myslu a dopravy ČR si Vás v rámci projektu „Rozvoj národního\, odv
 ětvového a regionálního sociálního dialogu v ČR“ dovoluje pozvat
  k hybridnímu diskusnímu fóru\nKRIZOVÁ DOBA Z POHLEDU PERSONALISTIKY\n
 13. PROSINCE 2022\, 9:00 – 12:30 HODSVAZ PRŮMYSLU A DOPRAVY ČR\, FREYO
 VA 9748/11\, PRAHA 9 nebo ONLINE PŘENOS PROSTŘEDNICTVÍM APLIKACE ZOOM\
 nCÍL\n\nBezprecedentní růst cen energií\, destabilizovaný globální 
 trh kvůli válce na Ukrajině\, vysoká inflace a konec zafixovaných ene
 rgetických tarifů ohrožuje tuzemské společnosti. Zároveň je v ČR s
 tále velký nedostatek pracovních sil a podniky jsou tedy motivovány sv
 é zaměstnance si udržet. Záměrem tohoto setkání je představit per
 sonalistům českých firem legislativní nástroje pro současnou a nadch
 ázející krizovou dobu v HR oblasti a dát prostor pro odbornou diskuzi.
 \n\nČASOVÝ HARMONOGRAM\n\n8:30 – 9:00 Registrace účastníků\n9:00 
 – 9:15 Úvodní slovo - Dagmar Kužvartová\, ředitelka Sekce zaměstn
 avatelské Svazu průmyslu a dopravy ČR\n9:15 – 10:45 Krizová opatře
 ní v rukou zaměstnavatele – úprava pracovní doby\, neplacené volno\
 , redukce odměn\, částečná nezaměstnanost\, … - Nataša Randlová
 \, Partner advokátní kanceláře Randl & Partners\n10:45 – 11:00 Disk
 uze a coffee break\n11:00 – 11:15 Role Leadershipu (nejen) v těžkých 
 dobách. Krize jako příležitost – klišé nebo realita? - Miroslav S
 edlák \, předseda Českého sdružení pro moderní benefity\n11:15 –
  12:30 Jak doručit zaměstnancům co nejvyšší hodnotu s omezeným rozp
 očtem. Mzda nebo benefity – náklady nebo příležitost - Petr Frisc
 h\, jednatel poradenské společnosti Pro Factum Consulting s.r.o.\n\nREG
 ISTRACE\n\nÚčast je bezplatná\, registrace probíhá prostřednictvím 
 tohoto odkazu. V případě dotazů se prosím obraťte na organizátora 
 Petra Teplého\, tel: 603 459 521\, e-mail: pteply@spcr.cz\n
URL:https://www.spcr.cz/krizova-doba-z-pohledu-personalistiky
DTSTART:20221213T090000
DTEND:20221213T123000
LOCATION:
END:VEVENT
END:VCALENDAR
