BEGIN:VCALENDAR
PRODID:-//eluceo/ical//2.0/EN
VERSION:2.0
CALSCALE:GREGORIAN
BEGIN:VEVENT
UID:db43b2fc96045771f7c3a004057d95eb
DTSTAMP:20260423T130007Z
SUMMARY:Závěrečná konference projektu NORD II
DESCRIPTION:Název akce: Závěrečná konference projektu NORD II\nURL: ht
 tps://www.spcr.cz/zaverecna-konference-projektu-nord-ii\nPopis: \n\nSvaz p
 růmyslu a dopravy ČR si Vás v rámci projektu „Rozvoj národního\, 
 odvětvového a regionálního sociálního dialogu v ČR“ dovoluje pozv
 at na závěrečnou konferenci projektu NORD II.\nKonference proběhne onl
 ine formou na platformě ZOOM. \nProjekt NORD II nám po 3\,5 roku dával 
 možnost se s cílovou skupinou setkávat\, řešit konkrétní témata\,
  vést bipartitní dialog a zabývat se aktuálními podněty. Pojďme si 
 společně zhodnotit\, jaká témata byla pro členskou základnu nejzají
 mavější\, o čem jsme nejčastěji diskutovali a v jakých aktivitách
  budeme pokračovat i nadále.\nprogram\n10:00 - 10:05     Úvodní slo
 vo\nDagmar Kuchtová\, generální ředitelka SP ČR\n10:05 - 10:10   
   Úvodní slovo partnera projektu\nMichael Tauš\, ČMKOS\n10:10 – 10:
 40    Analýza nové právní úpravy občanského soudního řízení a
  exekucí z pohledu zaměstnavatele\nKateřina Demová\, Tomáš Procházk
 a\, advokátní kancelář Aegis Law\, s.r.o.\n10:40 – 11:00    Prosaz
 ování prvků duálního vzdělávání na regionální a celostátní ú
 rovni\nMiloš Rathouský\, SP ČR\n11:00 – 11:15    Bezpečnost a och
 rana zdraví v období COVIDu\nMartina Kroupová\, SP ČR\n11:15 – 11:30
     Zhodnocení regionálních aktivit\nLenka Čechová\, SP ČR\n11:30
  – 11:45    Bipartitní jednání na úrovni odvětví - informování
  o platformě\, její přínos\nStanislav Sedláček\n11:45 – 12:00  
   Závěr\nLucie Hennebergová\, SP ČR\nRegistrace \nNa konferenci se\, 
 prosím\, přihlaste přes tento online formulář nejpozději do 23. list
 opadu 2022. Odkaz ke sledování konference Vám pošleme na základě reg
 istrace.\nV případě dotazů se\, prosím\, obraťte na Zuzanu Šestáko
 vou\, na tel.: 733 643 516 nebo e-mailu zsestakova@spcr.cz\n
URL:https://www.spcr.cz/zaverecna-konference-projektu-nord-ii
DTSTART:20221130T100000
DTEND:20221130T120000
LOCATION:
END:VEVENT
END:VCALENDAR
