BEGIN:VCALENDAR
PRODID:-//eluceo/ical//2.0/EN
VERSION:2.0
CALSCALE:GREGORIAN
BEGIN:VEVENT
UID:f44c8e02adfc014003772f67e5a94631
DTSTAMP:20260423T163130Z
SUMMARY:TIMTOS 2023
DESCRIPTION:Název akce: TIMTOS 2023\nURL: https://www.spcr.cz/timtos-2023\
 nPopis: \n\nDovolujme si vám předat informaci ze Zastupitelsví Tchaj-w
 anu v České republice o nadcházejícím veletrhu TIMTOS 2023\, třetím
  největším veletrhu obráběcích strojů na světě a druhé největš
 í akci B2B obráběcích strojů v Asii.\n\nVeletrh bude probíhat prezen
 cčně na výstavišti Taipei Nangang od 6. března do 11. března 2023 a 
 virtuálně od 6. března do 6. dubna 2023.\nTIMTOS je ideální platforma
  pro představení chytrých výrobních řešení a sdílení odborných 
 znalostí z Průmyslu 4.0 s návštěvníky z celého světa. Mezi témě
 ř 900 vystavovatelů\, kteří pokrývají kompletní dodavatelský řet
 ězec kovozpracujícího průmyslu\, patří velké mezinárodní i domác
 í značky.\nBližší informace naleznete na oficiálních webových str
 ánkách TIMTOS 2023. \nV rámci podpory účasti na veletrhu\, je možn
 é využít pobídku\, která částečně pokrývá letenky nebo ubytová
 ní v závislosti na ročních tržbách vaší společnosti (další podr
 obnosti naleznete v přiloženém formuláři „profil společnosti“). 
 Pro registraci a žádost o pobídku vyplňte přiložený formulář „p
 rofil společnosti“ a zašlete jej na adresu czech@sa.moea.gov.tw nebo c
 ztwec01@sa.moea.org.tw .\n\nV případě dalších dotazů se můžete obr
 átit na:Terezu ŠafářovouEconomic Division\, Taipei Economic and Cultur
 al Office Zastupitelství Tchaj-wanu v České republice Evropská 2590/33
 c\, 160 00 Praha 6 Tel.: +420 234 722 021\n
URL:https://www.spcr.cz/timtos-2023
DTSTART:20230306T080000
DTEND:20230311T170000
LOCATION:
END:VEVENT
END:VCALENDAR
