BEGIN:VCALENDAR
PRODID:-//eluceo/ical//2.0/EN
VERSION:2.0
CALSCALE:GREGORIAN
BEGIN:VEVENT
UID:941d9fb53daafcde831e450f75300d7b
DTSTAMP:20260423T172357Z
SUMMARY:Nefinanční reporting (ESG a CSRD)\, Audit uhlíkové stopy
DESCRIPTION:Název akce: Nefinanční reporting (ESG a CSRD)\, Audit uhlík
 ové stopy\nURL: https://www.spcr.cz/nefinancni-reporting-esg-csrd-audit-u
 hlikove-stopy\nPopis: \n\nSVAZ PRŮMYSLU A DOPRAVY ČESKÉ REPUBLIKY ve sp
 olupráci s ENVITRAIL\, GRANT THORNTON A VÚTS A.S. vás srdečně zvou ke
  kulatému stolu\nNEFINANČNÍ REPORTING (ESG A CSRD)\, AUDIT UHLÍKOVÉ S
 TOPY\n30. 11. 2022\, 9:00 – 13:00 HODIN VÚTS A.S.\, Svárovská 619\, 4
 60 01 Liberec nebo ONLINE přes aplikaci zoom\nRÁMCOVÝ PROGRAM 8.30 - 9.
 00 ∙ prezence účastníků\, připojování online účastníků\n9.00-
 12.00 ∙ Úvodní slovo – Radek Špicar\, Viceprezident Svazu průmyslu
  a dopravy ČR a Vice President Business Europe ∙ Dozvíte se hlavní in
 formace o požadavcích týkajících se nefinančního reportingu (CSRD\,
  GRI) a důvodech\, proč by se měly firmy zajímat o ESG ∙ Představí
 me postup sestavení nefinančního repotu ∙ Ukážeme Vám\, jak se pro
 vádí výpočet uhlíkové stopy auditním způsobem ve výrobních podni
 cích a jak se certifikuje v systému ISO ∙ Vše na příkladu firmy Pro
 mens Zlín\n12.00-13.00 ∙ Networking a pro zájemce krátká exkurze do 
 VÚTS a.s. - pro přítomné účastníky\nREGISTRACE ∙ Na setkání se 
 prosím registrujte do 24. 11. 2022 \, na výběr prezenční účast nebo
  online ∙ V případě dotazů se prosím obraťte na regionální kance
 lář SP ČR\, Ing. N. Vojtíškovou (tel: 733 643 520 nebo na e-mail: nvo
 jtiskova@spcr.cz).\n
URL:https://www.spcr.cz/nefinancni-reporting-esg-csrd-audit-uhlikove-stopy
DTSTART:20221130T090000
DTEND:20221130T130000
LOCATION:
END:VEVENT
END:VCALENDAR
