BEGIN:VCALENDAR
PRODID:-//eluceo/ical//2.0/EN
VERSION:2.0
CALSCALE:GREGORIAN
BEGIN:VEVENT
UID:4bc45d1194d0f0e788122f01f88173af
DTSTAMP:20260423T125219Z
SUMMARY:Online konference Proměny trhu práce
DESCRIPTION:Název akce: Online konference Proměny trhu práce\nURL: https
 ://www.spcr.cz/online-konference-promeny-trhu-prace\nPopis: \n\n \nSvaz p
 růmyslu a dopravy ČR vás zve na online konferenci Proměny trhu práce.
 \nProgram\n\n09:00 – 09:10   Zahájení - Ing. Dagmar Kuchtová\, gene
 rální ředitelka Svazu průmyslu a dopravy ČR\n09:10 – 09:25   Flex
 ibilní formy práce v ČR - Výzkumný ústav práce a sociálních věc
 í\, v. v. i.\n09:25 – 09:30   Otázky a odpovědi\n09:30 – 09:45  
  Vliv koronavirové krize na využívání zahraniční pracovní síly v
  ČR - TREXIMA\, spol. s r. o.\n09:45 – 09:50   Otázky a odpovědi\n
 09:50 – 10:05   Zákoník práce – náměty na změny na základě v
 yhodnocení komplexní novely zákoníku práce z roku 2020\, elektronizac
 i doručování a Judikatury Soudního dvora EU - Randl Partners\, advoká
 tní kancelář\, s. r. o.\n10:05 – 10:10   Otázky a odpovědi\n10:10
  – 10:30   Diskuze\, závěr\n\nKonferenci moderuje Mgr. Dagmar Kužva
 rtová\, ředitelka Sekce zaměstnavatelské Svazu průmyslu a dopravy ČR
 .\nRegistrace\n\nZaregistrujte se\, prosím\, do 7. prosince přes online 
 formulář. Odkaz ke sledování konference Vám pošleme na základě reg
 istrace.\n
URL:https://www.spcr.cz/online-konference-promeny-trhu-prace
DTSTART:20221208T090000
DTEND:20221208T103000
LOCATION:
END:VEVENT
END:VCALENDAR
