BEGIN:VCALENDAR
PRODID:-//eluceo/ical//2.0/EN
VERSION:2.0
CALSCALE:GREGORIAN
BEGIN:VEVENT
UID:af8b82ccca670da57d7a39cf1218ee86
DTSTAMP:20260423T130841Z
SUMMARY:Online meeting and presentations of Chinese\, Polish and Czech comp
 anies
DESCRIPTION:Název akce: Online meeting and presentations of Chinese\, Poli
 sh and Czech companies\nURL: https://www.spcr.cz/online-meeting-and-presen
 tations-chinese-polish-and-czech-companies\nPopis: \n\nCCPIT Ningxia Commi
 ttee\, CCPIT Fujian Committee\, Polish Investment & Trade Promotion Agency
  in China and Central and Eastern and Central Europe Trade Union cordially
  invite you to an online meeting on 23 and 24 November 2022\, every day fr
 om 9 am to 11 am. The event is sponsored by the Polish Ambassador to the P
 RC. Several Chinese companies will present their products during the event
 . At the same time\, Czech companies will have the opportunity to present 
 their products.\nPlease contact Jan Matoušek (matousek@aecons.cz) to conf
 irm your participation and possible company presentation.\n
URL:https://www.spcr.cz/online-meeting-and-presentations-chinese-polish-and
 -czech-companies
DTSTART:20221123T080000
DTEND:20221124T170000
LOCATION:
END:VEVENT
END:VCALENDAR
