BEGIN:VCALENDAR
PRODID:-//eluceo/ical//2.0/EN
VERSION:2.0
CALSCALE:GREGORIAN
BEGIN:VEVENT
UID:bb4a5cf7784db7ffdce33432afb1ac6d
DTSTAMP:20260423T150145Z
SUMMARY:Konzutace se zahraničním spolupracovníkem MZe ve Velké Británi
 i PAULEM WILKINSEM  
DESCRIPTION:Název akce: Konzutace se zahraničním spolupracovníkem MZe v
 e Velké Británii PAULEM WILKINSEM  \nURL: https://www.spcr.cz/konzutace-
 se-zahranicnim-spolupracovnikem-mze-ve-velke-britanii-paulem-wilkinsem\nPo
 pis: \n\nSetkání se uskuteční v budově Ministerstva zemědělství (
 Těšnov 17\, Praha 1) v úterý 6. prosince 2022 od 10:00 – 12:00 a 14
 :00 – 16:00 hod. SEČ.\nS Paulem Wilkinsem budete mít příležitost p
 rodiskutovat konkrétní témata\, která Vás zajímají a domluvit si p
 řípadnou další spolupráci při Vašem exportu do Velké Británie.\nJ
 ednotlivé schůzky mají časovou dotaci 30 min. Účast je zdarma.\nV p
 řípadě zájmu\, prosím\, kontaktujte pana Romana Blinku na email: rom
 an.blinka@mze.cz nebo volejte na tel. 221 812 758\, a to do 30. listopa
 du 2022.\nNezapomeňte uvést své jméno\, název společnosti\, kterou z
 astupujete\, obor činnosti a preferovaný čas schůzky.\nÚčast na setk
 ání je omezena kapacitou a podmíněna potvrzením schůzky ze strany Mi
 nisterstva zemědělství.\nKonzultace s Paulem Wilkinsem budou probíhat
  v anglickém jazyce.\n
URL:https://www.spcr.cz/konzutace-se-zahranicnim-spolupracovnikem-mze-ve-ve
 lke-britanii-paulem-wilkinsem
DTSTART:20221206T100000
DTEND:20221206T160000
LOCATION:
END:VEVENT
END:VCALENDAR
