BEGIN:VCALENDAR
PRODID:-//eluceo/ical//2.0/EN
VERSION:2.0
CALSCALE:GREGORIAN
BEGIN:VEVENT
UID:e71ecfd021bfcca49a1c58853eb987b5
DTSTAMP:20260423T163251Z
SUMMARY:Konference Průmysl 4.0 v praxi
DESCRIPTION:Název akce: Konference Průmysl 4.0 v praxi\nURL: https://www.
 spcr.cz/konference-prumysl-40-v-praxi-1\nPopis: \n\nJak pokračuje zavád
 ění prvků Průmyslu 4.0 ve firmách v Česku? Na tuto otázku odpovíme
  praktickými příklady již v úterý 6. 12. od 9:00 na hybridní akci z
  Národního centra Průmyslu 4.0 v Praze.\nNa akci Vám představíme zá
 věry nejnovějších průzkumů Svazu průmyslu a dopravy a také Národn
 ího centra Průmyslu 4.0 a následně uslyšíte příběhy oceněných f
 irem z letošních Cen za Průmysl 4.0\, které již třetím rokem vyhlá
 sil SP ČR za podpory České spořitelny.\nKonference je možné se z d
 ůvodu omezené kapacity prostor účastnit již pouze online. Vaši přih
 lášku prosím vyplňte zde. V případě vašeho zájmu o osobní účas
 t\, prosím pište na adresu: osevcik@spcr.cz.\nPROGRAM \n09:00 – 09:10
  Zahájení09:10 – 10:25 Blok I – představení průzkumů a oceněný
 ch projektů10:25 – 10:35 Přestávka10:35 – 11:35 Blok II – předst
 avení oceněných projektů11:35 – 12:00 Debata\, ukončení12:00 – 1
 3:00 Komentovaná prohlídka Testbedu a robotického baru\nPro účastník
 y přímo v Národním centru Průmyslu 4.0 čeká po skončení akce tak
 é prohlídka unikátní experimentální laboratoře Testbedu pro Průmys
 l 4.0 CIIRC\, ČVUT a také možnost neformálního rozhovoru se zástupci
  všech vybraných firem a zástupců SP ČR a NCP4.0.V případě dotazů
  se obraťte na Ondřeje Ševčíka (osevcik@spcr.cz)\, manažera SP ČR p
 ro komunikaci s členskou základnou.\n
URL:https://www.spcr.cz/konference-prumysl-40-v-praxi-1
DTSTART:20221206T090000
DTEND:20221206T130000
LOCATION:
END:VEVENT
END:VCALENDAR
