BEGIN:VCALENDAR
PRODID:-//eluceo/ical//2.0/EN
VERSION:2.0
CALSCALE:GREGORIAN
BEGIN:VEVENT
UID:c334cb8eba01d0fce6bba9348b43b399
DTSTAMP:20260423T172803Z
SUMMARY:Univerzita pro rozvoj (ZRS)
DESCRIPTION:Název akce: Univerzita pro rozvoj (ZRS)\nURL: https://www.spcr
 .cz/univerzita-pro-rozvoj-zrs\nPopis: \n\njménem Českého fóra pro rozv
 ojovou spolupráci (FoRS) si Vás dovoluji pozvat na akci "Univerzity pro 
 rozvoj"\, která proběhne v úterý 29. 11. od 16:30 do 20:00 v prostorá
 ch Sálu architektů Staroměstské radnice\, Praha 1.  Akce je určená 
 zástupcům a zástupkyním akademického\, neziskového\, veřejného a s
 oukromého sektoru v zahraniční rozvojové spolupráci\, humanitární p
 omoci a globálním rozvojovém vzdělávání a osvětě s cílem přibl
 ížit činnost akademického sektoru v těchto oblastech\, diskutovat jeh
 o specifickou roli a možnosti mezisektorové spolupráce a navázat a pro
 hloubit vztahy na závěrečném networkingu.\nDetailní program akce nale
 znete v příloze a zde:  https://drive.google.com/file/d/1tZEXs2y15uWfos
 c8dk-oxtm-vItQq61H/view?usp=share_link   \nPřihlašovat na akci se můž
 ete zde: https://forms.gle/podv3XcUia4UdDiL6\n
URL:https://www.spcr.cz/univerzita-pro-rozvoj-zrs
DTSTART:20221129T163000
DTEND:20221129T200000
LOCATION:
END:VEVENT
END:VCALENDAR
