BEGIN:VCALENDAR
PRODID:-//eluceo/ical//2.0/EN
VERSION:2.0
CALSCALE:GREGORIAN
BEGIN:VEVENT
UID:9612a0e2a4739a078aea0821c3ae2c7d
DTSTAMP:20260423T125705Z
SUMMARY:Mezinárodní železniční veletrh a konference
DESCRIPTION:Název akce: Mezinárodní železniční veletrh a konference\n
 URL: https://www.spcr.cz/mezinarodni-zeleznicni-veletrh-konference\nPopis:
  \n\nMezinárodní železniční veletrh s doprovodnou konferencí s názv
 em „RAIL BUSINESS DAYS 2023“\nVíce informací najdete zde\n
URL:https://www.spcr.cz/mezinarodni-zeleznicni-veletrh-konference
DTSTART:20230605T080000
DTEND:20230607T170000
LOCATION:
END:VEVENT
END:VCALENDAR
