BEGIN:VCALENDAR
PRODID:-//eluceo/ical//2.0/EN
VERSION:2.0
CALSCALE:GREGORIAN
BEGIN:VEVENT
UID:f71091ff4e80db346887a9ce6109d287
DTSTAMP:20260423T150144Z
SUMMARY:Mezinárodní konference: EU-Western Balkans: Smart Cities Economic
  Forum
DESCRIPTION:Název akce: Mezinárodní konference: EU-Western Balkans: Smar
 t Cities Economic Forum\nURL: https://www.spcr.cz/mezinarodni-konference-e
 u-western-balkans-smart-cities-economic-forum\nPopis: \n\nJménem českéh
 o předsednictví v Radě EU si Vás dovolujeme pozvat na mezinárodní k
 onferenci EU -Western Balkans: Smart Cities Economic Forum\, která se usk
 uteční v pátek 18.11. od 8:30 hod. v pražském Kongresovém centru.\
 nCílem ekonomického fóra je podpořit udržitelný a chytrý rozvoj mě
 st v EU i za jejími hranicemi. Tematické debatní panely se budou zabý
 vat možnostmi financování a sdílením zkušeností s realizací řeše
 ní pro chytrá města. Na akci se představí některé iniciativy podpor
 ující smart-cities projekty\, čeští podnikatelé získají informace 
 o aktuálních obchodních příležitostech v regionu západního Balká
 nu. Celou akci také doprovodí výběrový veletrh českých firem z obl
 asti smart-cities.\nKonference se zúčastní delegace z šesti států z
 ápadního Balkánu včetně zástupců vlád a představitelů zhruba 70 
 měst a obcí z regionu\, dále zástupci institucí EU\, finančních ins
 titucí EIB a EBRD a dalších mezinárodních organizací.\nAktuální pr
 ogram vč. odkazu k registraci na akci (možná do 10.11.) najdete na htt
 ps://live.eventtia.com/en/eu-westernbalkans\nEU – Western Balkans: Smart
  Cities Economic Forum pořádá Ministerstvo průmyslu a obchodu ve spolu
 práci s dalšími partnery: Ministerstvo zahraničních věcí\, Ministe
 rstvo pro místní rozvoj\, Svaz průmyslu a dopravy\, CzechTrade\, Covena
 nt of Mayors.\n
URL:https://www.spcr.cz/mezinarodni-konference-eu-western-balkans-smart-cit
 ies-economic-forum
DTSTART:20221118T083000
DTEND:20221118T170000
LOCATION:
END:VEVENT
END:VCALENDAR
