BEGIN:VCALENDAR
PRODID:-//eluceo/ical//2.0/EN
VERSION:2.0
CALSCALE:GREGORIAN
BEGIN:VEVENT
UID:6aec7445c672c4011c8f3789c560f2aa
DTSTAMP:20260423T163252Z
SUMMARY:Živá knihovna povolání Semily
DESCRIPTION:Název akce: Živá knihovna povolání Semily\nURL: https://ww
 w.spcr.cz/ziva-knihovna-povolani-semily\nPopis: \n\nRozhoduješ se\, na ja
 kou střední školu půjdeš? Čím chceš být?Napadlo tě\, kde může
 š po škole pracovat?\nPřijď si na vlastní kůži vyzkoušet zajímav
 é profese!Seznam se s firmami ve tvém okolí a vyber si tu správnou 
 školu pro Tebe.S rozhodováním ti pomůže:\n\n dělník na provozu ko
 nfekce – SINGING ROCK s.r.o.\n pracovní pozice na úřadu práce – 
 Úřad práce ČR\, Kontaktní pracoviště Semily\n policista – Krajsk
 é ředitelství policie Libereckého kraje\n elektromontér – ČEZ Dis
 tribuce a.s.\n zdravotní sestra – MMN a.s.\, nemocnice Semily\n strá
 žník – Městská policie Semily\n obráběč kovů\, technolog\, kons
 truktér - CHARVÁT Group s.r.o.\n laborant - CRYTUR\, spol. s r.o.\n se
 řizovač tvářecích strojů - KAMAX s.r.o.\n operátor/seřizovač - O
 NTEX CZ s.r.o.\n\nBližší informace Ing. N. Vojtíšková a kontakt pro 
 registraci na telefonu 225 279 881 nebo 733 643 520.\n
URL:https://www.spcr.cz/ziva-knihovna-povolani-semily
DTSTART:20221207T000000
DTEND:20221207T235959
LOCATION:
END:VEVENT
END:VCALENDAR
