BEGIN:VCALENDAR
PRODID:-//eluceo/ical//2.0/EN
VERSION:2.0
CALSCALE:GREGORIAN
BEGIN:VEVENT
UID:b4103a24feb7f50d1d6432e5233fcc95
DTSTAMP:20260423T150253Z
SUMMARY:Živá knihovna povolání Hradec Králové
DESCRIPTION:Název akce: Živá knihovna povolání Hradec Králové\nURL: 
 https://www.spcr.cz/ziva-knihovna-povolani-hradec-kralove\nPopis: \n\nRozh
 oduješ se\, na jakou střední školu půjdeš? Čím chceš být?Napadlo
  tě\, kde můžeš po škole pracovat?\nPřijď si na vlastní kůži vyz
 koušet zajímavé profese!Seznam se s firmami ve tvém okolí a vyber s
 i tu správnou školu pro Tebe.S rozhodováním vám pomůže:\n\n Stave
 bní technik\, stavební dělník – silničář\, projektant – koncern
  MEDIS – M - SILNICE a.s.\, M - PROJEKCE s.r.o.\n Zámečník\, sváře
 č - Axis a.s.\n Elektromontér – ČEZ Distribuce a.s.\n Všeobecná s
 estra – Fakultní nemocnice Hradec Králové\n Konstruktér – Datwyle
 r Sealing Technologies CZ s.r.o.\n Bankovní pracovník – ČSOB a.s.\n\
 nBližší informace Ing. N. Vojtíšková a kontakt pro registraci na tel
 efonu 225 279 881 nebo 733 643 520.\n
URL:https://www.spcr.cz/ziva-knihovna-povolani-hradec-kralove
DTSTART:20221111T000000
DTEND:20221111T235959
LOCATION:
END:VEVENT
END:VCALENDAR
