BEGIN:VCALENDAR
PRODID:-//eluceo/ical//2.0/EN
VERSION:2.0
CALSCALE:GREGORIAN
BEGIN:VEVENT
UID:5ac3f0789c6fb34cb51134a7a1cba975
DTSTAMP:20260423T163202Z
SUMMARY:Zelená transformace malých a středních firem
DESCRIPTION:Název akce: Zelená transformace malých a středních firem\n
 URL: https://www.spcr.cz/zelena-transformace-malych-strednich-firem\nPopis
 : \n\nZastoupení Evropské komise v ČR a Kancelář Evropského parlamen
 tu v ČR ve spolupráci s Konfederací zaměstnavatelských a podnikatelsk
 ých svazů ČR a CEBRE – Českou podnikatelskou reprezentací při EU s
 i Vás dovolují pozvat na debatu s názvem Zelená transformace malých a
  středních firem\nRegistrace pro osobní účast probíhá do 10. listop
 adu zde\nNA DEBATĚ VYSTOUPÍ\n• Adéla Tesařová\, vedoucí oddělení
 \, generální ředitelství pro energetiku\, Evropská komise• Radek Ja
 kubský\, viceprezident\, Hospodářská komora ČR• Rudolf Klepáček\,
  ředitel odboru Exportní strategie a služeb\, Ministerstvo průmyslu a 
 obchodu ČR• Bohumil Šmucr\, ředitel odboru strukturálních fondů na
  sekci fondů EU\, Ministerstvo průmyslu a obchodu ČR• Matěj Jakubec\
 , obchodní manažer\, DEVINN s.r.o.• Michal Jedlička\, specialista evr
 opské agendy\, ČEZ\, a. s.• Julie Hrstková\, komentátorka Hospodář
 ských novin\nAktuální situace na trhu s energiemi staví malé a střed
 ní podniky do složité situace. Evropská unie proto činí řadu opatř
 ení směřujících k dostupnosti energií. Zároveň podporuje zelenou t
 ransformaci firem\, tak aby dokázaly lépe čelit současným\, ale i bud
 oucím výzvám. Zásadní roli přitom můžou hrát peníze z evropskýc
 h fondů. Na naší akci se dozvíte\, jak se k nim do stanete a k čemu j
 e můžete použít.\nV rámci debaty budeme společně hledat odpovědi n
 a tyto otázky: • Jak posílit energetickou nezávislost Evropy a souča
 sně pomoci podnikům nést vysoké náklady za energie? \n• Jak podpoř
 it zelenou transformaci podniků a zajistit dostupnost nových technologi
 í a odborných znalostí zaměst nanců? Jakou roli při řešení těcht
 o výzev hrají EU fondy? • Jak podpořit exportní potenciál podniků 
 nabízejících nové technologie v oblasti zelené transformace?\nV pří
 padě dotazů nás kontaktujte na brussels@cebre.cz.\n
URL:https://www.spcr.cz/zelena-transformace-malych-strednich-firem
DTSTART:20221114T140000
DTEND:20221114T160000
LOCATION:
END:VEVENT
END:VCALENDAR
