BEGIN:VCALENDAR
PRODID:-//eluceo/ical//2.0/EN
VERSION:2.0
CALSCALE:GREGORIAN
BEGIN:VEVENT
UID:97fb6c6c8f1891ee7e6385a9b8c187cc
DTSTAMP:20260423T193021Z
SUMMARY:Veletrh EXPOKOS 2023
DESCRIPTION:Název akce: Veletrh EXPOKOS 2023\nURL: https://www.spcr.cz/vel
 etrh-expokos-2023\nPopis: \n\nZveme Vás na Veletrh EXPOKOS 2023\, který 
 se bude konat v kosovské Prištině ve dnech 18.-19.5.2023.\nPozvánka\nK
 ontakt na organizátora akce: Mr. Kreshnik Kullashi Business Development M
 anager CEO shpk - Congress and Event Organization Tel: +383 38 516 013 | M
 ob: +383 44 629 916 Address: Rr. Emrush Miftari nr.14 - Velani\, 10000 Pri
 shtinë\, Kosovëkreshnik@ceokos.com | www.ceokos.com\n
URL:https://www.spcr.cz/veletrh-expokos-2023
DTSTART:20230518T000000
DTEND:20230519T235959
LOCATION:
END:VEVENT
END:VCALENDAR
