BEGIN:VCALENDAR
PRODID:-//eluceo/ical//2.0/EN
VERSION:2.0
CALSCALE:GREGORIAN
BEGIN:VEVENT
UID:e92c12627503d508618a3e1b09395db0
DTSTAMP:20260423T125843Z
SUMMARY:Obchodování s NĚMECKEM a RAKOUSKEM (Ostrava)
DESCRIPTION:Název akce: Obchodování s NĚMECKEM a RAKOUSKEM (Ostrava)\nU
 RL: https://www.spcr.cz/obchodovani-s-nemeckem-rakouskem-ostrava\nPopis: \
 n\nProgram konference:(Registrace od 09.00 do 09.30 hodin)\n\nAktuální s
 ituace na tamních trzích\nPerspektivní obory a aktuální příležitos
 ti pro český export\nPředpoklady expanze aneb jsem opravdu připraven?\
 nBěžné chyby českých exportérů + tipy pro zvýšení šance na úsp
 ěch\nJak v Německu a Rakousku hledat obchodní partnery\nKomunikace v ob
 chodním jednání\nÚčast na veletrzích\, podnikatelských misích\, so
 urcing day\nAsistence kanceláří CzechTrade v Německu a Rakousku\nDotaz
 y\, diskuse\n\nINDIVIDUÁLNÍ KONZULTACE s řediteli zahraničních kancel
 áří CzechTrade\nVíce informací a registrace\n
URL:https://www.spcr.cz/obchodovani-s-nemeckem-rakouskem-ostrava
DTSTART:20221122T093000
DTEND:20221122T120000
LOCATION:
END:VEVENT
END:VCALENDAR
