BEGIN:VCALENDAR
PRODID:-//eluceo/ical//2.0/EN
VERSION:2.0
CALSCALE:GREGORIAN
BEGIN:VEVENT
UID:11119a69a70ccb869a0944cd826cda02
DTSTAMP:20260423T125843Z
SUMMARY:Workshop: AI a její využití ve firmách
DESCRIPTION:Název akce: Workshop: AI a její využití ve firmách\nURL: h
 ttps://www.spcr.cz/workshop-ai-jeji-vyuziti-ve-firmach\nPopis: \n\nZveme V
 ás na workshop na téma: AI a její využití ve firmách.\nKapacita work
 shopu je omezená. Program workshopu\, více informací a formulář pro p
 řihlášení najdete v přiloženém dokumentu.\n
URL:https://www.spcr.cz/workshop-ai-jeji-vyuziti-ve-firmach
DTSTART:20221109T083000
DTEND:20221109T140000
LOCATION:
END:VEVENT
END:VCALENDAR
