BEGIN:VCALENDAR
PRODID:-//eluceo/ical//2.0/EN
VERSION:2.0
CALSCALE:GREGORIAN
BEGIN:VEVENT
UID:084aee685de6d83a51dbde9130678209
DTSTAMP:20260423T163303Z
SUMMARY:Podnikatelská mise do Alžírska
DESCRIPTION:Název akce: Podnikatelská mise do Alžírska\nURL: https://ww
 w.spcr.cz/podnikatelska-mise-do-alzirska\nPopis: \n\nZveme Vás na podnika
 telskou misi do Alžírksa.\nPro více informací prosím klikněte.\n
URL:https://www.spcr.cz/podnikatelska-mise-do-alzirska
DTSTART:20221121T000000
DTEND:20221122T235959
LOCATION:
END:VEVENT
END:VCALENDAR
