BEGIN:VCALENDAR
PRODID:-//eluceo/ical//2.0/EN
VERSION:2.0
CALSCALE:GREGORIAN
BEGIN:VEVENT
UID:753ceb2c4eec4b10cb66d48781e1b435
DTSTAMP:20260423T150037Z
SUMMARY:Pozvánka na osobní setkání se zemědělskými diplomaty 
DESCRIPTION:Název akce: Pozvánka na osobní setkání se zemědělskými 
 diplomaty \nURL: https://www.spcr.cz/pozvanka-na-osobni-setkani-se-zemedel
 skymi-diplomaty\nPopis: \n\nDovolujeme si Vám předad pozvání Ministers
 tva zemědělství na Konzultace se zemědělskými diplomaty a zahranič
 ními spolupracovníky MZe (Čína\, Japonsko\, Libanon\, SAE\, Srbsko\, 
 Kazachstán\, Vietnam).Setkání se uskuteční v budově Ministerstva ze
 mědělství (Těšnov 17\, Praha 1) ve čtvrtek 24. listopadu 2022 od 8:
 30 do 12:30 hod. SEČ. Budete mít příležitost prodiskutovat konkrétn
 í témata\, která Vás z daného teritoria zajímají a domluvit si př
 ípadnou další spolupráci při Vašem exportu.Jednotlivé schůzky maj
 í časovou dotaci 20 min. Účast je zdarma.V případě zájmu\, prosím
 \, kontaktujte paní Zuzanu Hercíkovou na email: zuzana.hercikova@mze.cz
  nebo volejte na tel. 221 812 868\, a to do 21. listopadu 2022. Nezapom
 eňte uvést své jméno\, název společnosti\, kterou zastupujete\, s k
 ým máte zájem se setkat a preferovaný čas schůzky.\nÚčast na setk
 ání je omezena kapacitou a podmíněna potvrzením schůzky ze strany Mi
 nisterstva zemědělství.\nPozvánku naleznete v přiloženém souboru.\
 nNa setkání s Vámi se těší:\n\n•          zemědělský 
 diplomat v Číně Ondřej Plaček\,\n•          zemědělská 
 diplomatka v Japonsku Irena Leopoldová\,\n•          zeměděl
 ský diplomat v Libanonu Petr Sochor\,\n•          zemědělsk
 ý diplomat v SAE Lukáš Zamrzla\,\n•          zemědělský d
 iplomat v Srbsku Vladimír Váňa\,\n•          zahraniční sp
 olupracovník MZe v Kazachstánu Artyom Lukashov\,\n•          
 zahraniční spolupracovník MZe ve Vietnamu Luboš Marek\,\n•     
      a zástupci institucí ČEB (Česká exportní banka) a EGAP (Exp
 ortní garanční a pojišťovací společnost).\n
URL:https://www.spcr.cz/pozvanka-na-osobni-setkani-se-zemedelskymi-diplomat
 y
DTSTART:20221124T083000
DTEND:20221124T123000
LOCATION:
END:VEVENT
END:VCALENDAR
