BEGIN:VCALENDAR
PRODID:-//eluceo/ical//2.0/EN
VERSION:2.0
CALSCALE:GREGORIAN
BEGIN:VEVENT
UID:dae8de961f18cfa31cb186be9a8b98da
DTSTAMP:20260423T173247Z
SUMMARY:PRIAC DAY
DESCRIPTION:Název akce: PRIAC DAY\nURL: https://www.spcr.cz/priac-day\nPop
 is: \n\nŽádáme účastníky nejpozději do 31.10.2022 o potvrzení Va
 ší účasti\, a to na adresu: tajemnice@priac.eu.\nProgram:\nPracovní 
 část (pouze pro rozhodce PRIAC)\n9:00 – 9:30        Vít Horáček
  – Praktické otázky při projednávání rozhodčí věci\n9:30 – 10
 :00      David Řezníček – Postup rozhodce od převzetí věci do 
 jejího ukončení\n10:00 – 10:15    Štěpán Holub – Praktické ot
 ázky spojené s komunikací soudu\, mezi stranami a rozhodci (doručová
 ní\, elektronická komunikace apod.)\n10:15 – 10:45    Alexander Běl
 ohlávek – PRIAC jako mezinárodní instituce\n10:45 – 11:15    Jaro
 mír Čermák – Informace o obchodování na burze a vztah k rozhodčí
 mu řízení\nPřestávka / Raut\nInformační a společenská část (pro
  zvanou odbornou veřejnost)\n12:15 – 12:30    Jaromír Čermák – P
 ředstavení burzy a významu burzovních obchodů\n12:30 – 12:45    V
 ít Horáček – Představení burzovního soudu a jeho postavení v če
 ském právním prostředí\n12:45 – 13:00    Alexander Bělohlávek 
 – Mezinárodní postavení PRIAC\nUkončení ve 14:00 hod. \n
URL:https://www.spcr.cz/priac-day
DTSTART:20221122T090000
DTEND:20221122T140000
LOCATION:
END:VEVENT
END:VCALENDAR
