BEGIN:VCALENDAR
PRODID:-//eluceo/ical//2.0/EN
VERSION:2.0
CALSCALE:GREGORIAN
BEGIN:VEVENT
UID:d3367d6ef41e77f63c263a123aef70e2
DTSTAMP:20260423T150132Z
SUMMARY:Pozvánka na Future of Export Summit 2022
DESCRIPTION:Název akce: Pozvánka na Future of Export Summit 2022\nURL: ht
 tps://www.spcr.cz/pozvanka-na-future-export-summit-2022\nPopis: \n\nDovolu
 jeme si Vám předat pozvánky na akci agentury Czech Trade\, kterou Czech
 Trade završí 25 let své existence.\nV úterý 15. listopadu odpoledne 
 v Cubex Centru Praha proběhne prestižní byznysová akce Future of Exp
 ort Summit 2022.\nOdborný program nabídne témata\, která se budou věn
 ovat exportním výzvám\, digitalizaci či transformaci české ekonomiky
 .\nAkce je určena pro podnikatele\, CEO\, obchodní ředitele nebo export
 ní manažery\, ale také pro experty na udržitelnost a business developm
 ent a účast na ní je zdarma.\nV úvodu vystoupí ministr průmyslu a o
 bchodu Jozef Síkela. Dále program nabídne mix zástupců renomovaných 
 společností\, působících na blízkých i vzdálených zahraničních 
 trzích s bohatými zkušenostmi nebo ambicemi dál růst a exportovat. D
 ále se představí ředitelé ze zahraničních kanceláří a z centrál
 y CzechTrade\, kteří nabídnou pohled na vývoz ze strany zprostředkova
 tele.\nSamotný program je rozdělen do tří částí. Začíná prezenta
 cí řečníků na tzv. klíčová témata dnešní doby ze společností 
 Wikow Industry\, Petrof a Plzeňský Prazdroj. V následující panelové 
 diskuzi\, doplněné o výsledky unikátního průzkumu z podnikatelského
  prostředí\, se představí zástupci vedení ze společností ŠKODA AU
 TO\, Dermacol a Moore Czech Republic. Závěrečná část nabídne tři d
 iskuzní bloky: nad čím je nutné uvažovat v kontextu doby\; trend udr
 žitelnosti formující podnikání a úspěšné byznysové interakce.\nV
 íce informací k programu\, seznam řečníků i přihlášení na akci n
 aleznete na webu CzechTrade.\n
URL:https://www.spcr.cz/pozvanka-na-future-export-summit-2022
DTSTART:20221115T140000
DTEND:20221115T180000
LOCATION:
END:VEVENT
END:VCALENDAR
