BEGIN:VCALENDAR
PRODID:-//eluceo/ical//2.0/EN
VERSION:2.0
CALSCALE:GREGORIAN
BEGIN:VEVENT
UID:03ab408251ad467df772da0f52126cb2
DTSTAMP:20260423T125219Z
SUMMARY:10th EU-ASEAN Business Summit
DESCRIPTION:Název akce: 10th EU-ASEAN Business Summit\nURL: https://www.sp
 cr.cz/10th-eu-asean-business-summit\nPopis: \n\nPřes summitem lídrů EU-
 ASEAN (14.12.) se bude v Bruselu v SOFITEL BRUSSELS EUROPE konat 13.12. o
 d 14:30 hodin Business Summit. Pořádá ho EU-ASEAN Business Council (eu-
 asean.eu) a české firmy se mohou přihlásit/registrovat v odkaze zde :
  http://eu-asean.glueup.com/event/10th-asean-eu-business-summit-61865/ \
 n10th ASEAN Business Summit - Deepening ASEAN-EU Trade: Sustainable Devel
 opment for AllHighlights of Business Summit\n\n10th Edition of the Busines
 s Summit is a physical event held in Brussels alongside the main political
  summit which will mark 45 years of EU-ASEAN relations\n2 panels discussin
 g key policy issues underlining EU-ASEAN relations\nDeepening trade and in
 vestment relations between EU and ASEAN\nAchieving balance between sustain
 ability and trade\n\nOpen to public (first-come-first-serve basis. Registr
 ation subject to approval)\n\nAgenda:14:30 - 14:35 Welcome & Opening Remar
 ks14:35 - 14:45 Keynote Address by H.E. Charles Michel\, President of the 
 European Council (confirmed)14:45 - 14:55 Keynote Address by H.E. Joko Wid
 odo\, President of the Republic of Indonesia (invited)14:55 - 15:40 [Panel
 ] Reinvigorating the EU's interest in ASEAN: Trade\, Investment\, and the 
 Digital Economy15:40 - 15:50 Keynote Address: European Political Leader (t
 o be confirmed)\nKromě účasti na Business Summitu se nabízí možnost 
 sponsoringu a účasti na obědě s prezidenty a předsedy vlády zemí AS
 EAN.  Více informací v balíčku zde: Brussels_Sponsorship_Package_EU
 -ABC_Members_and_EU_Non-Members.pdf\nC-Suite Luncheon with ASEAN HoGs\nThe
  luncheon is designed to bring together the ASEAN HoG (with the exception 
 of Myanmar) and Senior Executives from a range of European Businesses.\nHi
 ghlights of C-Suite Luncheon\n\nAll HoGs are expected to be accompanied by
  one Minister which is most likely their Ministers of Trade/Commerce\; or 
 their Ministers of Foreign Affairs\nPresident of the European Council\, H.
 E. Charles Michel will be in attendance\nExecutive Vice President of the E
 uropean Commission\, H.E. Valdis Dombrovskis\, has been invited\nCorporate
  representatives will be interspersed between HoGs and Ministers (subject 
 to confirmation from the Protocol team)\n\nAgenda:12.30  Opening Speeches
 12.45  Luncheon & Roundtable Discussion14:00  Closing Remarks14.15  End
  of C-Suite Luncheon\nFor additional event or venue information\, please s
 end an email to chris.humphrey@eu-asean.eu\n
URL:https://www.spcr.cz/10th-eu-asean-business-summit
DTSTART:20221213T143000
DTEND:20221213T183000
LOCATION:
END:VEVENT
END:VCALENDAR
