BEGIN:VCALENDAR
PRODID:-//eluceo/ical//2.0/EN
VERSION:2.0
CALSCALE:GREGORIAN
BEGIN:VEVENT
UID:127558b072aa256d1a3d316eab71e1aa
DTSTAMP:20260423T145022Z
SUMMARY:Česko-tuniské Business Forum
DESCRIPTION:Název akce: Česko-tuniské Business Forum\nURL: https://www.s
 pcr.cz/cesko-tuniske-business-forum\nPopis: \n\nSvaz průmyslu a dopravy 
 ČR ve spolupráci s tuniským náprotivkem CONECT (Svaz občanských pod
 niků Tuniska) pod záštitou Ministerstva průmyslu a dopravy ČR organiz
 uje Česko-tuniské Business Forum.\n\nČesko-tuniské Business Forum se u
 skuteční 02.11.2022 od 8:45h v budově Ministerstva průmyslu a dopravy 
 ČR na adrese Politických vězňů 931\, 110 00 Nové Město.\nHlavním 
 cílem tohoto Fora je představit podnikatelské prostředí v Tunisku a p
 otenciál průmyslu\, který se v této zemi nachází stejně jako obchod
 ní příležitosti a formy financování exportu.Podrobnější informace
  stejně jako jména spikrů a vystupujících naleznete v přiloženém p
 rogramu.\nCZ-TN_Business_Forum_Agenda.pdfV případě otázek a zájmu o 
 účast na tomto Foru prosím kontaktuje Martina Natafalušiho: mnatafalus
 i@spcr.cz\n
URL:https://www.spcr.cz/cesko-tuniske-business-forum
DTSTART:20221102T084500
DTEND:20221102T123000
LOCATION:
END:VEVENT
END:VCALENDAR
