BEGIN:VCALENDAR
PRODID:-//eluceo/ical//2.0/EN
VERSION:2.0
CALSCALE:GREGORIAN
BEGIN:VEVENT
UID:4e80447594af489f526c8735c98b6258
DTSTAMP:20260423T125850Z
SUMMARY:Aktuální exportní příležitosti v Kazachstánu 
DESCRIPTION:Název akce: Aktuální exportní příležitosti v Kazachstán
 u \nURL: https://www.spcr.cz/aktualni-exportni-prilezitosti-v-kazachstanu\
 nPopis: \n\nAktuální exportní příležitosti v Kazachstánu\nPraktick
 é informace pro české firmy zajímající se o export do Kazachstánu.\
 n\nProgram akce:(Registrace od 13.00 hodin)\n\nÚvodní slovo velvyslance 
 ČR v Kazachstánu Ing. Rudolfa Hykla MPP (online)\nSouhrnné informace o
  kazašském trhu\, ekonomické a politické klima v Kazachstánu a Kyrgyz
 stánu\nAktuální možnosti expanze na kazašský\, částečně také ky
 rgyzský trh\, rozdíly oproti Rusku v kontextu zkušeností českých fir
 em\nKlíčové sektory s ohledem na plánované mise\nStrategie vstupu na 
 dané trhy\, překážky\, příležitosti a praktické tipy pro obchodov
 ání\nObchodní a kulturní zvyklosti\nPlánované akce na rok 2023\nZku
 šenosti a časté chyby českých exportérů\nSlužby CzechTrade pro exp
 ortéry\n\nINDIVIDUÁLNÍ KONZULTACE s ředitelem zahraniční kanceláře
  CzechTrade v KAZACHSTÁNU.\nRegistrace na seminář je možná zde. \nT
 ěšíme se na Vás!\n
URL:https://www.spcr.cz/aktualni-exportni-prilezitosti-v-kazachstanu
DTSTART:20221114T133000
DTEND:20221114T153000
LOCATION:
END:VEVENT
END:VCALENDAR
