BEGIN:VCALENDAR
PRODID:-//eluceo/ical//2.0/EN
VERSION:2.0
CALSCALE:GREGORIAN
BEGIN:VEVENT
UID:58215abb584f9ba7a5399dccad0fec0d
DTSTAMP:20260423T150132Z
SUMMARY:FUTURE OF EXPORT SUMMIT 2022
DESCRIPTION:Název akce: FUTURE OF EXPORT SUMMIT 2022\nURL: https://www.spc
 r.cz/future-export-summit-2022\nPopis: \n\nVážení exportéři\,\nzveme 
 Vás na exportně zaměřenou akci Future of Export Summit 2022.\nJaká j
 e budoucnost exportu? Jak na současné krize reagují úspěšné firmy?
 \nSpolečně s klíčovými osobnostmi českého byznysu se budeme věnova
 t hlavním výzvám\, s nimiž se dnes exportéři potýkají.\nNa summitu
  vystoupí generální ředitel CzechTrade Radomil Doležal\, prezidentka
  společnosti PETROF Zuzana Ceralová Petrofová\, obchodní ředitel z 
 Plzeňského Prazdroje Tomáš Mráz\, dále Martin Wichterle majitel st
 rojírenské skupiny Wikov Industry\, skláren Bomma a Rückl\, a další
  významné osobnosti z renomovaných společností\, které působí na 
 blízkých i vzdálených trzích\, a v neposlední řadě specialisté z
 e zahraničních kanceláří a centrály CzechTrade.\nVýběr z programu 
 summitu:\n\nDruhá transformace české ekonomiky\nKrize: nový normál\nK
 dy je digitalizace módní slovo a kdy nutná podmínka byznysového pře
 žití\nPanelová diskuze s přispěním výsledků unikátního průzkumu
 \nParalelní diskuzní bloky s odborníky:  1. Nad čím je nutné uvaž
 ovat v kontextu doby  2. Trend udržitelnosti formující podnikání 
  3. Úspěšné byznysové interakce \nNetworking\n\nKDE: Cubec Centrum
  Praha KDY: 15. listopadu od 14 do 18 hodin Vstup na akci je zdarma P
 řihláška: https://www.czechtrade.cz/kalendar-akci/archiv-akci/future-o
 f-export-summit\nKontaktní osoba: Hana Toclovávedoucí oddělení marke
 tingové komunikaceČeská agentura na podporu obchodu / CzechTradeŠtep
 ánská 567/15\, 120 00 Praha 2tel.: 224 907 852\, mob.: 606 617 332e-mai
 l: hana.toclova@czechtrade.cz\n
URL:https://www.spcr.cz/future-export-summit-2022
DTSTART:20221115T140000
DTEND:20221115T180000
LOCATION:
END:VEVENT
END:VCALENDAR
