BEGIN:VCALENDAR
PRODID:-//eluceo/ical//2.0/EN
VERSION:2.0
CALSCALE:GREGORIAN
BEGIN:VEVENT
UID:78c001a6665c76706ad41ea5ba7d2fa7
DTSTAMP:20260423T130841Z
SUMMARY:Online seminář: MEXIKO - aktuální příležitosti a možnosti\,
  jak v zemi zahájit vlastní výrobu
DESCRIPTION:Název akce: Online seminář: MEXIKO - aktuální příležito
 sti a možnosti\, jak v zemi zahájit vlastní výrobu\nURL: https://www.s
 pcr.cz/online-seminar-mexiko-aktualni-prilezitosti-moznosti-jak-v-zemi-zah
 ajit-vlastni-vyrobu\nPopis: \n\nZajímáte se o MEXICKÝ trh? Zamýšlíte
  v Mexiku zahájit plnou či částečnou výrobu vašeho produktu? Nechce
 te investovat do založení lokální společnosti a máte zájem o výrob
 u prostřednictvím lokálního partnera? Potřebujete následně produkt 
 přepravit za svým mexickým nebo americkým klientem?\nPřipojte se na w
 ebinář agentury CzechTrade. Co se dozvíte?\n• Aktuální stav ekonomi
 ky a perspektivní obory• Výroba v Mexiku - její výhody a úskalí\, 
 Jak najít lokálního partnera• Příběhy českých firem a jejich zku
 šenosti z mexického trhu\nVíce informací a registrace\n
URL:https://www.spcr.cz/online-seminar-mexiko-aktualni-prilezitosti-moznost
 i-jak-v-zemi-zahajit-vlastni-vyrobu
DTSTART:20221108T140000
DTEND:20221108T153000
LOCATION:
END:VEVENT
END:VCALENDAR
