BEGIN:VCALENDAR
PRODID:-//eluceo/ical//2.0/EN
VERSION:2.0
CALSCALE:GREGORIAN
BEGIN:VEVENT
UID:d301c51e4f432099a96a9106ba25b55b
DTSTAMP:20260423T125836Z
SUMMARY:Taiwan International Intelligent Manufacturing Show
DESCRIPTION:Název akce: Taiwan International Intelligent Manufacturing Sho
 w\nURL: https://www.spcr.cz/taiwan-international-intelligent-manufacturing
 -show\nPopis: \n\nTaipei Economic and Cultural Office\, Prague would like 
 to inform you about 2022 Taiwan International Intelligent Manufacturing Sh
 ow\, which will be held physically in ICC Tainan Exhibition Center from No
 vember 23rd to November 25th\, 2022\, and virtually from November 23rd to 
 December 23rd\, 2022. The show brings together companies in various fields
  such as semiconductor\, textiles\, food\, shoemaking\, and car parts manu
 facturing industries based in southern Taiwan who are providing products o
 r services for industrial systems\, AI\, data analysis\, 3D printing techn
 ology\, automated vehicle equipment\, renewable energy\, and carbon reduct
 ion. For the latest updates\, please visit the official website https://ww
 w.tiim.com.tw/en/index.html\nTo encourage higher participation at this sho
 w\, we are offering an incentive that covers air tickets and/or accommodat
 ion depending on the annual sales of the company.\nFor registration and th
 e incentive application\, please fill in the “company profile” form an
 d send it to czech@sa.moea.gov.tw or cztwec01@sa.moea.org.tw .\nWe sincere
 ly hope to welcome you at the show.\nFor further information\, please feel
  free to contact:Ms. Tereza ŠafářováEconomic DivisionTaipei Economic a
 nd Cultural Office\, PragueTel.: (+420) 234 722 021cztwec01@sa.moea.gov.tw
 \, cztwec01@gmail.com\n
URL:https://www.spcr.cz/taiwan-international-intelligent-manufacturing-show
DTSTART:20221123T000000
DTEND:20221123T235959
LOCATION:
END:VEVENT
END:VCALENDAR
