BEGIN:VCALENDAR
PRODID:-//eluceo/ical//2.0/EN
VERSION:2.0
CALSCALE:GREGORIAN
BEGIN:VEVENT
UID:b8e4f7a3f13f3c89805f18578887f9f2
DTSTAMP:20260423T163311Z
SUMMARY:The 4th China-CEEC (Cangzhou) SME Cooperation Forum &Sino-Europe B2
 B Conference
DESCRIPTION:Název akce: The 4th China-CEEC (Cangzhou) SME Cooperation Foru
 m &Sino-Europe B2B Conference\nURL: https://www.spcr.cz/4th-china-ceec-can
 gzhou-sme-cooperation-forum-sino-europe-b2b-conference\nPopis: \n\nDear co
 mpanies\,\n       To promote the implementation of the spirit of the 2
 021 China-CEEC Summit and practical cooperation between China and CEECs in
  various fields\, the fourth China-CEEC (Cangzhou) SME Cooperation Forum j
 ointly sponsored by Ministry of Industry and Information Technology of PRC
  and People’s Government of Hebei Province\, supported by Ministry of Fo
 reign Affairs of PRC will be held on December 6-8 in Cangzhou City . \n
        We sincerely invite you to take part in the Opening Ceremony a
 nd Keynote Forum as well as Sino-Europe SMEs Matchmaking Conference onlin
 e . The Conference will be organized by China-CEEC SME Cooperation Zone 
 in Cangzhou. There will be 300+enterprises attending the Matchmaking Confe
 rence\, focusing on Trade in services\, Trade in goods\, High-end manufact
 uring\, Science &Technology & Education and conducting project roadshow a
 nd one-on-one matchmaking online\, which aims to build a platform for exch
 anges and cooperation between domestic and foreign enterprises. \n\nProgr
 am of The Fourth China-CEEC(Cangzhou) SME Cooperation Forum and Agenda of 
 Sino-Europe SMEs Matchmaking Conference\nReturn Receipt for Information of
  Participants\n
URL:https://www.spcr.cz/4th-china-ceec-cangzhou-sme-cooperation-forum-sino-
 europe-b2b-conference
DTSTART:20221206T080000
DTEND:20221208T170000
LOCATION:
END:VEVENT
END:VCALENDAR
