BEGIN:VCALENDAR
PRODID:-//eluceo/ical//2.0/EN
VERSION:2.0
CALSCALE:GREGORIAN
BEGIN:VEVENT
UID:a92604a562bc48b0f48865d0f6d31d30
DTSTAMP:20260423T163005Z
SUMMARY:Česko-tchajwanský webinář: Odolná partnerství v dodavatelské
 m řetězci v oblasti elektromobility
DESCRIPTION:Název akce: Česko-tchajwanský webinář: Odolná partnerstv
 í v dodavatelském řetězci v oblasti elektromobility\nURL: https://www.
 spcr.cz/cesko-tchajwansky-webinar-odolna-partnerstvi-v-dodavatelskem-retez
 ci-v-oblasti-elektromobility-0\nPopis: \n\nAkce proběhne ve středu 19. 
 října od 9 hodin přes platformu webex.\nTchajwanský průmyslový a tec
 hnologický výzkumný institut (ITRI) inicioval seminář zaměřený na 
 potenciální spolupráci v oblasti elektromobility a vybral si k tomu za 
 partnera Svaz průmyslu a dopravy ČR.Industrial Technology Research Inst
 itute (ITRI) je institut s největším počtem patentů na obyvatele zem
 ě na světě\, který získal již přes 100 ocenění udělovaných kaž
 dý rok stovce nejlepších inovací z celého světa. Spolupracuje s univ
 erzitami\, nemocnicemi a firmami z různých sektorů\, stejně tak s part
 nery v zahraničí s cílem uvádět inovace do praxe. Ústředí ITRI m
 á přes 6000 zaměstnanců. Podnikatelská delegace Svazu průmyslu a dop
 ravy ústředí ITRI ve městě Hsinchu navštívila v roce 2019 a proh
 lédla si showroom\, kde jsou prezentovány výzkumné projekty z různýc
 h oblastí\, na kterých divize institutu pracovaly a následně proběhl
  seminář zaměřený na oblast vědy a výzkumu\, který organizoval ITR
 I se svým českým partnerem TAČR.  Zveme Vás tedy k online účasti 
 přes platformu webex\, a to dne 19. října od 9 hodin.Více infomací v 
 pozvánce zde.\nV případě zájmu o účast prosíme vyplnit stručný r
 egistrační formulář zde.\n
URL:https://www.spcr.cz/cesko-tchajwansky-webinar-odolna-partnerstvi-v-doda
 vatelskem-retezci-v-oblasti-elektromobility-0
DTSTART:20221019T090000
DTEND:20221019T114500
LOCATION:
END:VEVENT
END:VCALENDAR
